BEGIN:VCALENDAR
VERSION:2.0
PRODID:spatie/icalendar-generator
NAME:Rosenbrauerei Pößneck
X-WR-CALNAME:Rosenbrauerei Pößneck
DESCRIPTION:Events for Rosenbrauerei Pößneck
X-WR-CALDESC:Events for Rosenbrauerei Pößneck
BEGIN:VTIMEZONE
TZID:Europe/Berlin
BEGIN:STANDARD
DTSTART:20251026T030000Z
TZOFFSETFROM:+0200
TZOFFSETTO:+0100
END:STANDARD
BEGIN:DAYLIGHT
DTSTART:20260329T020000Z
TZOFFSETFROM:+0100
TZOFFSETTO:+0200
END:DAYLIGHT
BEGIN:STANDARD
DTSTART:20261025T030000Z
TZOFFSETFROM:+0200
TZOFFSETTO:+0100
END:STANDARD
END:VTIMEZONE
BEGIN:VTIMEZONE
TZID:UTC
BEGIN:STANDARD
DTSTART:20250723T122431Z
TZOFFSETFROM:+0000
TZOFFSETTO:+0000
END:STANDARD
END:VTIMEZONE
BEGIN:VEVENT
UID:1400-1777744800-1777755600@www.rosenbrauerei.de
DTSTAMP:20260419T122431Z
SUMMARY:Dirty Old Man – A Tribute To Charles Bukowski
DESCRIPTION:
LOCATION:Dr.-Wilhelm-Külz-Str. 41\, Pößneck\, 07381\, DE
URL:https://www.rosenbrauerei.de/event/bukowski/
DTSTART;TZID=Europe/Berlin:20260502T200000
DTEND;TZID=Europe/Berlin:20260502T230000
END:VEVENT
END:VCALENDAR